BEGIN:VCALENDAR
VERSION:2.0
PRODID:-//Visit Prince Rupert - ECPv6.15.20//NONSGML v1.0//EN
CALSCALE:GREGORIAN
METHOD:PUBLISH
X-ORIGINAL-URL:https://visitprincerupert.com
X-WR-CALDESC:Events for Visit Prince Rupert
REFRESH-INTERVAL;VALUE=DURATION:PT1H
X-Robots-Tag:noindex
X-PUBLISHED-TTL:PT1H
BEGIN:VTIMEZONE
TZID:America/Vancouver
BEGIN:DAYLIGHT
TZOFFSETFROM:-0800
TZOFFSETTO:-0700
TZNAME:PDT
DTSTART:20220313T100000
END:DAYLIGHT
BEGIN:STANDARD
TZOFFSETFROM:-0700
TZOFFSETTO:-0800
TZNAME:PST
DTSTART:20221106T090000
END:STANDARD
BEGIN:DAYLIGHT
TZOFFSETFROM:-0800
TZOFFSETTO:-0700
TZNAME:PDT
DTSTART:20230312T100000
END:DAYLIGHT
BEGIN:STANDARD
TZOFFSETFROM:-0700
TZOFFSETTO:-0800
TZNAME:PST
DTSTART:20231105T090000
END:STANDARD
BEGIN:DAYLIGHT
TZOFFSETFROM:-0800
TZOFFSETTO:-0700
TZNAME:PDT
DTSTART:20240310T100000
END:DAYLIGHT
BEGIN:STANDARD
TZOFFSETFROM:-0700
TZOFFSETTO:-0800
TZNAME:PST
DTSTART:20241103T090000
END:STANDARD
BEGIN:DAYLIGHT
TZOFFSETFROM:-0800
TZOFFSETTO:-0700
TZNAME:PDT
DTSTART:20250309T100000
END:DAYLIGHT
BEGIN:STANDARD
TZOFFSETFROM:-0700
TZOFFSETTO:-0800
TZNAME:PST
DTSTART:20251102T090000
END:STANDARD
BEGIN:DAYLIGHT
TZOFFSETFROM:-0800
TZOFFSETTO:-0700
TZNAME:PDT
DTSTART:20260308T100000
END:DAYLIGHT
BEGIN:STANDARD
TZOFFSETFROM:-0700
TZOFFSETTO:-0800
TZNAME:PST
DTSTART:20261101T090000
END:STANDARD
END:VTIMEZONE
BEGIN:VEVENT
DTSTART;TZID=America/Vancouver:20250501T170000
DTEND;TZID=America/Vancouver:20250501T200000
DTSTAMP:20260421T211136
CREATED:20250429T222101Z
LAST-MODIFIED:20250429T222101Z
UID:10004318-1746118800-1746129600@visitprincerupert.com
SUMMARY:Gitmaxmak'ay Elders Fundrasier
DESCRIPTION:Family Nite Fundraiser – Loonie Auction/Bingo \nDoors open 5pm Auction to start at 6pm followed by 5 Bingo games & Jackpot. 50/50 Sales as well! \nCome out and enjoy some Fun Games & Great Food!Canteen : Chowmein/Fried Rice/Dry Ribs $10\, Chilli-Dog $4\, Hotdog $2Bake Table – Fried Bread $2 \nPrize Donations Greatly Appreciated! Set up 3pm
URL:https://visitprincerupert.com/event/gitmaxmakay-elders-fundrasier/
LOCATION:Nisga’a hall\, 860 3rd Avenue West\, Prince Rupert\, British Columbia\, V8J 1M6\, Canada
ATTACH;FMTTYPE=image/jpeg:https://visitprincerupert.com/wp-content/uploads/2025/04/494135053_4083964891858034_2338826137739026759_n.jpg
END:VEVENT
BEGIN:VEVENT
DTSTART;TZID=America/Vancouver:20241219T160000
DTEND;TZID=America/Vancouver:20241219T210000
DTSTAMP:20260421T211136
CREATED:20241216T223845Z
LAST-MODIFIED:20241216T223845Z
UID:10002513-1734624000-1734642000@visitprincerupert.com
SUMMARY:Christmas Craft Sale
DESCRIPTION:Christmas Craft Sale \nThursday\, December 19\, 2024Nisga’a HallFrom 4PM – 9PM \nKitchen will be selling fried bread\, seafood chowder with biscuit\, chilli with bun\, hotdogs and pop\, so bring your appetite. \nLocal Prince Rupert MakersTables Available to Rent $25Call Jackie Nyce250.624.6479 or Message DiniDavis on Facebook
URL:https://visitprincerupert.com/event/christmas-craft-sale/
LOCATION:Nisga’a hall\, 860 3rd Avenue West\, Prince Rupert\, British Columbia\, V8J 1M6\, Canada
ATTACH;FMTTYPE=image/jpeg:https://visitprincerupert.com/wp-content/uploads/2024/12/468841934_8790457051053074_3456882206551269128_n.jpg
END:VEVENT
BEGIN:VEVENT
DTSTART;TZID=America/Vancouver:20241129T180000
DTEND;TZID=America/Vancouver:20241129T203000
DTSTAMP:20260421T211136
CREATED:20241121T165036Z
LAST-MODIFIED:20241121T165036Z
UID:10002492-1732903200-1732912200@visitprincerupert.com
SUMMARY:Holiday Decorating Contest & Baked Treats Auction
DESCRIPTION:Fundraiser for Rainmakers debate team and CHHS outdoor club. \nFriday\, November 29th\n6pm-8:30pm\nNisga’a Hall
URL:https://visitprincerupert.com/event/holiday-decorating-contest-baked-treats-auction/
LOCATION:Nisga’a hall\, 860 3rd Avenue West\, Prince Rupert\, British Columbia\, V8J 1M6\, Canada
ATTACH;FMTTYPE=image/jpeg:https://visitprincerupert.com/wp-content/uploads/2024/11/467853744_1923354358187272_2510930638754413703_n.jpg
END:VEVENT
BEGIN:VEVENT
DTSTART;TZID=America/Vancouver:20241102T100000
DTEND;TZID=America/Vancouver:20241102T140000
DTSTAMP:20260421T211136
CREATED:20240924T222217Z
LAST-MODIFIED:20240924T222217Z
UID:10002420-1730541600-1730556000@visitprincerupert.com
SUMMARY:Prince Rupert Pet Expo
DESCRIPTION:Prince Rupert Pet Expo \nNovember 2nd\n10am – 2pm \nNisga’a Hall \n This 𝒌𝒊𝒅 𝒂𝒏𝒅 𝒑𝒆𝒕-𝒇𝒓𝒊𝒆𝒏𝒅𝒍𝒚 event will be filled with fun for the whole family\, including: Prizes and draws Activities for kids Supporting a great cause! \n𝐻o𝑠t𝑒d b𝑦: 𝘚𝘯𝘰𝘶𝘵𝘈𝘣𝘰𝘶𝘵 𝘗𝘦𝘵 𝘚𝘦𝘳𝘷𝘪𝘤𝘦𝘴 𝘗𝘳𝘪𝘯𝘤𝘦 𝘙𝘶𝘱𝘦𝘳𝘵 𝘢𝘯𝘥 𝘛𝘳𝘶𝘦 𝘕𝘰𝘳𝘵𝘩 𝘋𝘰𝘨 𝘛𝘳𝘢𝘪𝘯𝘪𝘯𝘨
URL:https://visitprincerupert.com/event/prince-rupert-pet-expo/
LOCATION:Nisga’a hall\, 860 3rd Avenue West\, Prince Rupert\, British Columbia\, V8J 1M6\, Canada
ATTACH;FMTTYPE=image/jpeg:https://visitprincerupert.com/wp-content/uploads/2024/09/460958403_434893889611492_4636049584531650805_n.jpg
END:VEVENT
BEGIN:VEVENT
DTSTART;TZID=America/Vancouver:20240926T113000
DTEND;TZID=America/Vancouver:20240926T140000
DTSTAMP:20260421T211136
CREATED:20240909T195346Z
LAST-MODIFIED:20240909T195346Z
UID:10002399-1727350200-1727359200@visitprincerupert.com
SUMMARY:Chamber Luncheon: Insights from the Gitmaxmak'ay Nisga'a Society
DESCRIPTION:Upcoming Chamber Luncheon: Insights from the Gitmaxmak’ay Nisga’a Society\n\n\n\nWe are excited to invite you to our next Chamber Luncheon\, hosted at the Nisga’a Hall on 26th September 2024. This event will feature a special presentation by Blair Mirau from the Gitmaxmak’ay Nisga’a Society.\n\n\n\nEvent Details:\n\n\nDate: 26TH September 2024\nTime: Doors open at 11:30 AM\, with food served at 11:45 AM.\nLocation: Nisga’a Hall\n\nBlair will be providing an important update on the Gitmaxmak’ay Nisga’a Society’s recent initiatives and plans. Additionally\, he will introduce the Society’s new Executive Director.\n\n\n\nThis luncheon presents a valuable opportunity to learn more about the impactful work being done within our community and to connect with fellow Chamber members.\n\n\n\nWe look forward to seeing you there!
URL:https://visitprincerupert.com/event/chamber-luncheon-insights-from-the-gitmaxmakay-nisgaa-society/
LOCATION:Nisga’a hall\, 860 3rd Avenue West\, Prince Rupert\, British Columbia\, V8J 1M6\, Canada
ATTACH;FMTTYPE=image/jpeg:https://visitprincerupert.com/wp-content/uploads/2024/09/pr.jpg
ORGANIZER;CN="Chamber of Commerce":MAILTO:executivedirector@rupertchamber.ca
END:VEVENT
BEGIN:VEVENT
DTSTART;TZID=America/Vancouver:20231222T150000
DTEND;TZID=America/Vancouver:20231222T210000
DTSTAMP:20260421T211136
CREATED:20231214T182221Z
LAST-MODIFIED:20231214T182221Z
UID:10001034-1703257200-1703278800@visitprincerupert.com
SUMMARY:Pop Up Market
DESCRIPTION:One last pop up event before Christmas! So many talented vendors. If you’re a last minute shopper this is perfect. Pulled pork sandwiches and macaroni in the kitchen! \nWhen: December 22nd\, 3:00pm – 9:00pm \nWhere: Nisga’a Hall
URL:https://visitprincerupert.com/event/pop-up-market/
LOCATION:Nisga’a hall\, 860 3rd Avenue West\, Prince Rupert\, British Columbia\, V8J 1M6\, Canada
CATEGORIES:Arts & Culture,Community Events
ATTACH;FMTTYPE=image/jpeg:https://visitprincerupert.com/wp-content/uploads/2023/12/Pop-up-market.jpeg
END:VEVENT
END:VCALENDAR