BEGIN:VCALENDAR
VERSION:2.0
PRODID:-//Visit Prince Rupert - ECPv6.15.20//NONSGML v1.0//EN
CALSCALE:GREGORIAN
METHOD:PUBLISH
X-WR-CALNAME:Visit Prince Rupert
X-ORIGINAL-URL:https://visitprincerupert.com
X-WR-CALDESC:Events for Visit Prince Rupert
REFRESH-INTERVAL;VALUE=DURATION:PT1H
X-Robots-Tag:noindex
X-PUBLISHED-TTL:PT1H
BEGIN:VTIMEZONE
TZID:America/Vancouver
BEGIN:DAYLIGHT
TZOFFSETFROM:-0800
TZOFFSETTO:-0700
TZNAME:PDT
DTSTART:20250309T100000
END:DAYLIGHT
BEGIN:STANDARD
TZOFFSETFROM:-0700
TZOFFSETTO:-0800
TZNAME:PST
DTSTART:20251102T090000
END:STANDARD
BEGIN:DAYLIGHT
TZOFFSETFROM:-0800
TZOFFSETTO:-0700
TZNAME:PDT
DTSTART:20260308T100000
END:DAYLIGHT
BEGIN:STANDARD
TZOFFSETFROM:-0700
TZOFFSETTO:-0800
TZNAME:PST
DTSTART:20261101T090000
END:STANDARD
BEGIN:DAYLIGHT
TZOFFSETFROM:-0800
TZOFFSETTO:-0700
TZNAME:PDT
DTSTART:20270314T100000
END:DAYLIGHT
BEGIN:STANDARD
TZOFFSETFROM:-0700
TZOFFSETTO:-0800
TZNAME:PST
DTSTART:20271107T090000
END:STANDARD
END:VTIMEZONE
BEGIN:VEVENT
DTSTART;TZID=America/Vancouver:20260509T120000
DTEND;TZID=America/Vancouver:20260509T140000
DTSTAMP:20260421T083842
CREATED:20260407T175743Z
LAST-MODIFIED:20260407T175743Z
UID:10007576-1778328000-1778335200@visitprincerupert.com
SUMMARY:Hoop-a-thon 2026
DESCRIPTION: Hoop-a-thon Fundraiser – Support CHSS Metal Shop! \n\nWe’re raising funds for a new CNC machine for the metal shop at Charles Hays Secondary School — and we need your help!\n\nThe Prince Rupert Rotary Club & Prince Rupert Rainmakers Interactors are working together to reach our goal of $36\,000.\n\n May 9 12 PM – 2 PM Charles Hays Gymnasium\n\n How can you help?\nRegister a team: bbkillbery@citywest.caDonate via e-transfer: prrotaryclub@citywest.ca\n\nCome out\, shoot some hoops\, and support local students!
URL:https://visitprincerupert.com/event/hoop-a-thon-2026/
LOCATION:Charles Hays Secondary School\, 201 Prince Rupert Blvd.\, Prince Rupert\, British Columbia\, V8J 3W1\, Canada
ATTACH;FMTTYPE=image/jpeg:https://visitprincerupert.com/wp-content/uploads/2026/04/660445517_1360067006151788_4766409753618979252_n.jpg
END:VEVENT
END:VCALENDAR