BEGIN:VCALENDAR
VERSION:2.0
PRODID:-//Visit Prince Rupert - ECPv6.15.20//NONSGML v1.0//EN
CALSCALE:GREGORIAN
METHOD:PUBLISH
X-WR-CALNAME:Visit Prince Rupert
X-ORIGINAL-URL:https://visitprincerupert.com
X-WR-CALDESC:Events for Visit Prince Rupert
REFRESH-INTERVAL;VALUE=DURATION:PT1H
X-Robots-Tag:noindex
X-PUBLISHED-TTL:PT1H
BEGIN:VTIMEZONE
TZID:America/Vancouver
BEGIN:DAYLIGHT
TZOFFSETFROM:-0800
TZOFFSETTO:-0700
TZNAME:PDT
DTSTART:20250309T100000
END:DAYLIGHT
BEGIN:STANDARD
TZOFFSETFROM:-0700
TZOFFSETTO:-0800
TZNAME:PST
DTSTART:20251102T090000
END:STANDARD
BEGIN:DAYLIGHT
TZOFFSETFROM:-0800
TZOFFSETTO:-0700
TZNAME:PDT
DTSTART:20260308T100000
END:DAYLIGHT
BEGIN:STANDARD
TZOFFSETFROM:-0700
TZOFFSETTO:-0800
TZNAME:PST
DTSTART:20261101T090000
END:STANDARD
BEGIN:DAYLIGHT
TZOFFSETFROM:-0800
TZOFFSETTO:-0700
TZNAME:PDT
DTSTART:20270314T100000
END:DAYLIGHT
BEGIN:STANDARD
TZOFFSETFROM:-0700
TZOFFSETTO:-0800
TZNAME:PST
DTSTART:20271107T090000
END:STANDARD
END:VTIMEZONE
BEGIN:VEVENT
DTSTART;TZID=America/Vancouver:20260429T190000
DTEND;TZID=America/Vancouver:20260429T210000
DTSTAMP:20260423T050608
CREATED:20260216T232936Z
LAST-MODIFIED:20260407T191227Z
UID:10007585-1777489200-1777496400@visitprincerupert.com
SUMMARY:Whispers of Wool- Knitting & Crocheting Club
DESCRIPTION:If you’re looking for a cozy activity on cold winter evenings? \nWhispers of Wool is happening at the Wheelhouse every second and last Wednesday of the month from 7–9pm. \nBring your own yarn\, your current project\, or just come to stitch\, chat\, and learn something new.All ages and all skill levels are welcome.
URL:https://visitprincerupert.com/event/whispers-of-wool-knitting-crocheting-club/2026-04-29/
LOCATION:Wheelhouse Brewing\, 217 1st Ave East\, Prince Rupert\, Canada
ATTACH;FMTTYPE=image/jpeg:https://visitprincerupert.com/wp-content/uploads/2026/02/634973712_931105992646627_4381275514488109615_n.jpg
END:VEVENT
BEGIN:VEVENT
DTSTART;TZID=America/Vancouver:20260513T190000
DTEND;TZID=America/Vancouver:20260513T210000
DTSTAMP:20260423T050608
CREATED:20260216T232936Z
LAST-MODIFIED:20260407T191227Z
UID:10007586-1778698800-1778706000@visitprincerupert.com
SUMMARY:Whispers of Wool- Knitting & Crocheting Club
DESCRIPTION:If you’re looking for a cozy activity on cold winter evenings? \nWhispers of Wool is happening at the Wheelhouse every second and last Wednesday of the month from 7–9pm. \nBring your own yarn\, your current project\, or just come to stitch\, chat\, and learn something new.All ages and all skill levels are welcome.
URL:https://visitprincerupert.com/event/whispers-of-wool-knitting-crocheting-club/2026-05-13/
LOCATION:Wheelhouse Brewing\, 217 1st Ave East\, Prince Rupert\, Canada
ATTACH;FMTTYPE=image/jpeg:https://visitprincerupert.com/wp-content/uploads/2026/02/634973712_931105992646627_4381275514488109615_n.jpg
END:VEVENT
BEGIN:VEVENT
DTSTART;TZID=America/Vancouver:20260527T190000
DTEND;TZID=America/Vancouver:20260527T210000
DTSTAMP:20260423T050608
CREATED:20260216T232936Z
LAST-MODIFIED:20260407T191227Z
UID:10007587-1779908400-1779915600@visitprincerupert.com
SUMMARY:Whispers of Wool- Knitting & Crocheting Club
DESCRIPTION:If you’re looking for a cozy activity on cold winter evenings? \nWhispers of Wool is happening at the Wheelhouse every second and last Wednesday of the month from 7–9pm. \nBring your own yarn\, your current project\, or just come to stitch\, chat\, and learn something new.All ages and all skill levels are welcome.
URL:https://visitprincerupert.com/event/whispers-of-wool-knitting-crocheting-club/2026-05-27/
LOCATION:Wheelhouse Brewing\, 217 1st Ave East\, Prince Rupert\, Canada
ATTACH;FMTTYPE=image/jpeg:https://visitprincerupert.com/wp-content/uploads/2026/02/634973712_931105992646627_4381275514488109615_n.jpg
END:VEVENT
END:VCALENDAR