BEGIN:VCALENDAR
VERSION:2.0
PRODID:-//Visit Prince Rupert - ECPv6.15.20//NONSGML v1.0//EN
CALSCALE:GREGORIAN
METHOD:PUBLISH
X-ORIGINAL-URL:https://visitprincerupert.com
X-WR-CALDESC:Events for Visit Prince Rupert
REFRESH-INTERVAL;VALUE=DURATION:PT1H
X-Robots-Tag:noindex
X-PUBLISHED-TTL:PT1H
BEGIN:VTIMEZONE
TZID:America/Vancouver
BEGIN:DAYLIGHT
TZOFFSETFROM:-0800
TZOFFSETTO:-0700
TZNAME:PDT
DTSTART:20300310T100000
END:DAYLIGHT
BEGIN:STANDARD
TZOFFSETFROM:-0700
TZOFFSETTO:-0800
TZNAME:PST
DTSTART:20301103T090000
END:STANDARD
BEGIN:DAYLIGHT
TZOFFSETFROM:-0800
TZOFFSETTO:-0700
TZNAME:PDT
DTSTART:20310309T100000
END:DAYLIGHT
BEGIN:STANDARD
TZOFFSETFROM:-0700
TZOFFSETTO:-0800
TZNAME:PST
DTSTART:20311102T090000
END:STANDARD
BEGIN:DAYLIGHT
TZOFFSETFROM:-0800
TZOFFSETTO:-0700
TZNAME:PDT
DTSTART:20320314T100000
END:DAYLIGHT
BEGIN:STANDARD
TZOFFSETFROM:-0700
TZOFFSETTO:-0800
TZNAME:PST
DTSTART:20321107T090000
END:STANDARD
END:VTIMEZONE
BEGIN:VEVENT
DTSTART;TZID=America/Vancouver:20310319T170000
DTEND;TZID=America/Vancouver:20310319T180000
DTSTAMP:20260420T174033
CREATED:20260402T171901Z
LAST-MODIFIED:20260402T171901Z
UID:10007572-1931706000-1931709600@visitprincerupert.com
SUMMARY:Free French Classes
DESCRIPTION: French Classes in Prince Rupert  \nWant to practice or improve your French? Join us! \n Every Wednesday at 5:00 PM 125 Market Pl – Hecate Strait (3rd floor) Free classes & everyone is welcome! \nCome learn\, practice\, and connect in a friendly environment.À bientôt !
URL:https://visitprincerupert.com/event/free-french-classes/2031-03-19/
LOCATION:Hecate Strait Employment Development Society\, 208 1 Avenue East\, Prince Rupert\, British Columbia\, V8J 4M8\, Canada
ATTACH;FMTTYPE=image/jpeg:https://visitprincerupert.com/wp-content/uploads/2026/04/658373967_26383218714650928_4831945575483529355_n.jpg
END:VEVENT
BEGIN:VEVENT
DTSTART;TZID=America/Vancouver:20310326T170000
DTEND;TZID=America/Vancouver:20310326T180000
DTSTAMP:20260420T174033
CREATED:20260402T171901Z
LAST-MODIFIED:20260402T171901Z
UID:10007573-1932310800-1932314400@visitprincerupert.com
SUMMARY:Free French Classes
DESCRIPTION: French Classes in Prince Rupert  \nWant to practice or improve your French? Join us! \n Every Wednesday at 5:00 PM 125 Market Pl – Hecate Strait (3rd floor) Free classes & everyone is welcome! \nCome learn\, practice\, and connect in a friendly environment.À bientôt !
URL:https://visitprincerupert.com/event/free-french-classes/2031-03-26/
LOCATION:Hecate Strait Employment Development Society\, 208 1 Avenue East\, Prince Rupert\, British Columbia\, V8J 4M8\, Canada
ATTACH;FMTTYPE=image/jpeg:https://visitprincerupert.com/wp-content/uploads/2026/04/658373967_26383218714650928_4831945575483529355_n.jpg
END:VEVENT
BEGIN:VEVENT
DTSTART;TZID=America/Vancouver:20310402T170000
DTEND;TZID=America/Vancouver:20310402T180000
DTSTAMP:20260420T174033
CREATED:20260402T171901Z
LAST-MODIFIED:20260402T171901Z
UID:10007574-1932915600-1932919200@visitprincerupert.com
SUMMARY:Free French Classes
DESCRIPTION: French Classes in Prince Rupert  \nWant to practice or improve your French? Join us! \n Every Wednesday at 5:00 PM 125 Market Pl – Hecate Strait (3rd floor) Free classes & everyone is welcome! \nCome learn\, practice\, and connect in a friendly environment.À bientôt !
URL:https://visitprincerupert.com/event/free-french-classes/2031-04-02/
LOCATION:Hecate Strait Employment Development Society\, 208 1 Avenue East\, Prince Rupert\, British Columbia\, V8J 4M8\, Canada
ATTACH;FMTTYPE=image/jpeg:https://visitprincerupert.com/wp-content/uploads/2026/04/658373967_26383218714650928_4831945575483529355_n.jpg
END:VEVENT
END:VCALENDAR